BEGIN:VCALENDAR
VERSION:2.0
PRODID:SchoolNow
CALSCALE:GREGORIAN
BEGIN:VEVENT
UID:7261bcfc-c579-11f0-a64e-0e87b21e145b
DTSTAMP:20260410T162412Z
SUMMARY:CDD Board Meeting - Sept. 2025
LOCATION:The Eves Bend Clubhouse located at 4725 Los Robles Court\, Palmett
 o\, FL 34221
URL;VALUE=URI:https://www.sawgrassvillagecdd.com/calendar/8804016/cdd-board
 -meeting-sept-2025
DTSTART:20250924T170000Z
DTEND:20250924T180000Z
ATTACH;FILENAME=2025-09-24 Sawgrass Village CDD Agenda Package.pdf;FMTTYPE=
 application/pdf:https://campussuite-storage.s3.amazonaws.com/prod/1559289/
 369181f6-ba54-11f0-99e1-0a58a9feac02/3088301/6f889650-34f9-11f1-ac8a-0200f
 da79de5/file/2025-09-24 Sawgrass Village CDD Agenda Package.pdf
END:VEVENT
END:VCALENDAR
