BEGIN:VCALENDAR
VERSION:2.0
PRODID:SchoolNow
CALSCALE:GREGORIAN
BEGIN:VEVENT
UID:e0a96ff2-c579-11f0-aeeb-02a24fa18703
DTSTAMP:20251119T185929Z
SUMMARY:CDD Board Meeting - Oct. 2025 - Cancelled
LOCATION:The Eves Bend Clubhouse located at 4725 Los Robles Court\, Palmett
 o\, FL 34221
URL;VALUE=URI:https://www.sawgrassvillagecdd.com/calendar/8804085/cdd-board
 -meeting-oct-2025-cancelled
DTSTART:20251022T170000Z
DTEND:20251022T180000Z
END:VEVENT
END:VCALENDAR
