BEGIN:VCALENDAR
VERSION:2.0
PRODID:SchoolNow
CALSCALE:GREGORIAN
BEGIN:VEVENT
UID:eb50cd9c-c579-11f0-93e6-0afff9ea838f
DTSTAMP:20251119T231527Z
SUMMARY:CDD Board Meeting - Nov. 2025
LOCATION:The Eves Bend Clubhouse located at 4725 Los Robles Court\, Palmett
 o\, FL 34221
URL;VALUE=URI:https://www.sawgrassvillagecdd.com/calendar/8804087/cdd-board
 -meeting-nov-2025
DTSTART:20251119T180000Z
DTEND:20251119T190000Z
ATTACH;FILENAME=2025-11-19 SGV Meeting Book.pdf;FMTTYPE=application/pdf:htt
 ps://campussuite-storage.s3.amazonaws.com/prod/1559289/369181f6-ba54-11f0-
 99e1-0a58a9feac02/3041782/c1c3e446-c59c-11f0-95a6-0a58a9feac02/file/2025-1
 1-19 SGV Meeting Book.pdf
END:VEVENT
END:VCALENDAR
