BEGIN:VCALENDAR
VERSION:2.0
PRODID:SchoolNow
CALSCALE:GREGORIAN
BEGIN:VEVENT
UID:544cf418-c586-11f0-af5e-0e924e89945b
DTSTAMP:20260410T143528Z
SUMMARY:CDD Board Meeting - Dec. 2025 - Cancelled
LOCATION:The Eves Bend Clubhouse located at 4725 Los Robles Court\, Palmett
 o\, FL 34221
URL;VALUE=URI:https://www.sawgrassvillagecdd.com/calendar/8804254/cdd-board
 -meeting-dec-2025
DTSTART:20251224T180000Z
DTEND:20251224T190000Z
END:VEVENT
END:VCALENDAR
