BEGIN:VCALENDAR
VERSION:2.0
PRODID:SchoolNow
CALSCALE:GREGORIAN
BEGIN:VEVENT
UID:63079bf2-c586-11f0-a7d0-02ea71babd91
DTSTAMP:20260410T162926Z
SUMMARY:CDD Board Meeting - Jan. 2026
LOCATION:The Eves Bend Clubhouse located at 4725 Los Robles Court\, Palmett
 o\, FL 34221
URL;VALUE=URI:https://www.sawgrassvillagecdd.com/calendar/8804256/cdd-board
 -meeting-jan-2026
DTSTART:20260128T180000Z
DTEND:20260128T190000Z
ATTACH;FILENAME=2026-01-28 Sawgrass Village CDD Agenda Package.pdf;FMTTYPE=
 application/pdf:https://campussuite-storage.s3.amazonaws.com/prod/1559289/
 369181f6-ba54-11f0-99e1-0a58a9feac02/3088271/8f73d142-34ee-11f1-9519-02f8b
 85aa643/file/2026-01-28 Sawgrass Village CDD Agenda Package.pdf
END:VEVENT
END:VCALENDAR
