BEGIN:VCALENDAR
VERSION:2.0
PRODID:SchoolNow
CALSCALE:GREGORIAN
BEGIN:VEVENT
UID:6e13ea6e-c586-11f0-b545-0a58a9feac02
DTSTAMP:20260410T162951Z
SUMMARY:CDD Board Meeting - Feb. 2026
LOCATION:The Eves Bend Clubhouse located at 4725 Los Robles Court\, Palmett
 o\, FL 34221
URL;VALUE=URI:https://www.sawgrassvillagecdd.com/calendar/8804258/cdd-board
 -meeting-feb-2026
DTSTART:20260225T180000Z
DTEND:20260225T190000Z
ATTACH;FILENAME=2026-02-25 Sawgrass Village CDD Agenda Package.pdf;FMTTYPE=
 application/pdf:https://campussuite-storage.s3.amazonaws.com/prod/1559289/
 369181f6-ba54-11f0-99e1-0a58a9feac02/3088273/8f741760-34ee-11f1-9fc8-02f8b
 85aa643/file/2026-02-25 Sawgrass Village CDD Agenda Package.pdf
END:VEVENT
END:VCALENDAR
