BEGIN:VCALENDAR
VERSION:2.0
PRODID:SchoolNow
CALSCALE:GREGORIAN
BEGIN:VEVENT
UID:790f0b60-c586-11f0-aaec-0a58a9feac02
DTSTAMP:20260410T163015Z
SUMMARY:CDD Board Meeting - Mar. 2026
LOCATION:The Eves Bend Clubhouse located at 4725 Los Robles Court\, Palmett
 o\, FL 34221
URL;VALUE=URI:https://www.sawgrassvillagecdd.com/calendar/8804260/cdd-board
 -meeting-mar-2026
DTSTART:20260325T170000Z
DTEND:20260325T180000Z
ATTACH;FILENAME=2026-03-25 Sawgrass Village CDD Agenda Package.pdf;FMTTYPE=
 application/pdf:https://campussuite-storage.s3.amazonaws.com/prod/1559289/
 369181f6-ba54-11f0-99e1-0a58a9feac02/3088302/0ba7a40e-34fa-11f1-b4e4-0ea95
 dd34c39/file/2026-03-25 Sawgrass Village CDD Agenda Package.pdf
END:VEVENT
END:VCALENDAR
