BEGIN:VCALENDAR
VERSION:2.0
PRODID:SchoolNow
CALSCALE:GREGORIAN
BEGIN:VEVENT
UID:83dc570a-c586-11f0-b5cb-0a58a9feac02
DTSTAMP:20251119T202957Z
SUMMARY:CDD Board Meeting - Apr. 2026
LOCATION:The Eves Bend Clubhouse located at 4725 Los Robles Court\, Palmett
 o\, FL 34221
URL;VALUE=URI:https://www.sawgrassvillagecdd.com/calendar/8804262/cdd-board
 -meeting-apr-2026
DTSTART:20260422T170000Z
DTEND:20260422T180000Z
END:VEVENT
END:VCALENDAR
