BEGIN:VCALENDAR
VERSION:2.0
PRODID:SchoolNow
CALSCALE:GREGORIAN
BEGIN:VEVENT
UID:8f83f5ea-c586-11f0-b5ab-02343ccddbd9
DTSTAMP:20251119T203017Z
SUMMARY:CDD Board Meeting - May 2026
LOCATION:The Eves Bend Clubhouse located at 4725 Los Robles Court\, Palmett
 o\, FL 34221
URL;VALUE=URI:https://www.sawgrassvillagecdd.com/calendar/8804264/cdd-board
 -meeting-may-2026
DTSTART:20260527T170000Z
DTEND:20260527T180000Z
END:VEVENT
END:VCALENDAR
