BEGIN:VCALENDAR
VERSION:2.0
PRODID:SchoolNow
CALSCALE:GREGORIAN
BEGIN:VEVENT
UID:99da96f2-c586-11f0-8849-0afff9ea838f
DTSTAMP:20251119T203034Z
SUMMARY:CDD Board Meeting - June 2026
LOCATION:The Eves Bend Clubhouse located at 4725 Los Robles Court\, Palmett
 o\, FL 34221
URL;VALUE=URI:https://www.sawgrassvillagecdd.com/calendar/8804267/cdd-board
 -meeting-june-2026
DTSTART:20260624T170000Z
DTEND:20260624T180000Z
END:VEVENT
END:VCALENDAR
