BEGIN:VCALENDAR
VERSION:2.0
PRODID:SchoolNow
CALSCALE:GREGORIAN
BEGIN:VEVENT
UID:a45d9bec-c586-11f0-94d3-0afff9ea838f
DTSTAMP:20251119T203052Z
SUMMARY:CDD Board Meeting - July 2026
LOCATION:The Eves Bend Clubhouse located at 4725 Los Robles Court\, Palmett
 o\, FL 34221
URL;VALUE=URI:https://www.sawgrassvillagecdd.com/calendar/8804269/cdd-board
 -meeting-july-2026
DTSTART:20260722T170000Z
DTEND:20260722T180000Z
END:VEVENT
END:VCALENDAR
