BEGIN:VCALENDAR
VERSION:2.0
PRODID:SchoolNow
CALSCALE:GREGORIAN
BEGIN:VEVENT
UID:adab9b54-c586-11f0-9e7f-02af76d80f6f
DTSTAMP:20251119T203107Z
SUMMARY:CDD Board Meeting - Aug. 2026
LOCATION:The Eves Bend Clubhouse located at 4725 Los Robles Court\, Palmett
 o\, FL 34221
URL;VALUE=URI:https://www.sawgrassvillagecdd.com/calendar/8804270/cdd-board
 -meeting-aug-2026
DTSTART:20260826T170000Z
DTEND:20260826T180000Z
END:VEVENT
END:VCALENDAR
