BEGIN:VCALENDAR
VERSION:2.0
PRODID:SchoolNow
CALSCALE:GREGORIAN
BEGIN:VEVENT
UID:b9b51de4-c586-11f0-b135-0affe72d166b
DTSTAMP:20251119T203128Z
SUMMARY:CDD Board Meeting - Sept. 2026
LOCATION:The Eves Bend Clubhouse located at 4725 Los Robles Court\, Palmett
 o\, FL 34221
URL;VALUE=URI:https://www.sawgrassvillagecdd.com/calendar/8804272/cdd-board
 -meeting-sept-2026
DTSTART:20260923T170000Z
DTEND:20260923T180000Z
END:VEVENT
END:VCALENDAR
