BEGIN:VCALENDAR
VERSION:2.0
PRODID:SchoolNow
CALSCALE:GREGORIAN
BEGIN:VEVENT
UID:a86674ea-34f1-11f1-bc5d-0affc0f1d53d
DTSTAMP:20260410T182114Z
SUMMARY:CDD Board Meeting - Aug. 2025
LOCATION:The Eves Bend Clubhouse located at 4725 Los Robles Court\, Palmett
 o\, FL 34221
URL;VALUE=URI:https://www.sawgrassvillagecdd.com/calendar/8984159/cdd-board
 -meeting-aug-2025
DTSTART:20250827T170000Z
DTEND:20250827T180000Z
ATTACH;FILENAME=2025-08-27 SGV Meeting Book.pdf;FMTTYPE=application/pdf:htt
 ps://campussuite-storage.s3.amazonaws.com/prod/1559289/369181f6-ba54-11f0-
 99e1-0a58a9feac02/3038972/5c5bf8e4-c19d-11f0-862d-0e88fdb0586f/file/2025-0
 8-27 SGV Meeting Book.pdf
END:VEVENT
END:VCALENDAR
